BEGIN:VCALENDAR
VERSION:2.0
PRODID:-//Waldorfschule Karl Schubert · Graz - ECPv6.15.20//NONSGML v1.0//EN
CALSCALE:GREGORIAN
METHOD:PUBLISH
X-ORIGINAL-URL:https://www.wsks-graz.at
X-WR-CALDESC:Veranstaltungen für Waldorfschule Karl Schubert · Graz
REFRESH-INTERVAL;VALUE=DURATION:PT1H
X-Robots-Tag:noindex
X-PUBLISHED-TTL:PT1H
BEGIN:VTIMEZONE
TZID:Europe/Vienna
BEGIN:DAYLIGHT
TZOFFSETFROM:+0100
TZOFFSETTO:+0200
TZNAME:CEST
DTSTART:20250330T010000
END:DAYLIGHT
BEGIN:STANDARD
TZOFFSETFROM:+0200
TZOFFSETTO:+0100
TZNAME:CET
DTSTART:20251026T010000
END:STANDARD
BEGIN:DAYLIGHT
TZOFFSETFROM:+0100
TZOFFSETTO:+0200
TZNAME:CEST
DTSTART:20260329T010000
END:DAYLIGHT
BEGIN:STANDARD
TZOFFSETFROM:+0200
TZOFFSETTO:+0100
TZNAME:CET
DTSTART:20261025T010000
END:STANDARD
BEGIN:DAYLIGHT
TZOFFSETFROM:+0100
TZOFFSETTO:+0200
TZNAME:CEST
DTSTART:20270328T010000
END:DAYLIGHT
BEGIN:STANDARD
TZOFFSETFROM:+0200
TZOFFSETTO:+0100
TZNAME:CET
DTSTART:20271031T010000
END:STANDARD
END:VTIMEZONE
BEGIN:VEVENT
DTSTART;VALUE=DATE:20260604
DTEND;VALUE=DATE:20260606
DTSTAMP:20260419T170229
CREATED:20250108T090514Z
LAST-MODIFIED:20250108T090514Z
UID:11172-1780531200-1780703999@www.wsks-graz.at
SUMMARY:schulfrei: Feiertag + Fenstertag
DESCRIPTION:
URL:https://www.wsks-graz.at/aktuelles/schulfrei-feiertag-fenstertag/
END:VEVENT
BEGIN:VEVENT
DTSTART;TZID=Europe/Vienna:20260612T180000
DTEND;TZID=Europe/Vienna:20260612T200000
DTSTAMP:20260419T170229
CREATED:20260316T155257Z
LAST-MODIFIED:20260316T155801Z
UID:15904-1781287200-1781294400@www.wsks-graz.at
SUMMARY:Die\, die übten
DESCRIPTION:Sie übten – und wie! Unsere Schüler:innen präsentieren ihre schönsten Stücke aus dem Instrumental-Unterricht. Freuen Sie sich auf ein buntes Programm voller Musik und Engagement
URL:https://www.wsks-graz.at/aktuelles/die-die-uebten/
LOCATION:Festsaal der Waldorfschule Karl Schubert · Graz
END:VEVENT
BEGIN:VEVENT
DTSTART;TZID=Europe/Vienna:20260627T140000
DTEND;TZID=Europe/Vienna:20260627T210000
DTSTAMP:20260419T170229
CREATED:20250523T133452Z
LAST-MODIFIED:20260131T125635Z
UID:11834-1782568800-1782594000@www.wsks-graz.at
SUMMARY:öffentliche Schulfeier\, Sommerfest & Konzertabend
DESCRIPTION:
URL:https://www.wsks-graz.at/aktuelles/sommerfest-5/
LOCATION:Waldorfschule Karl Schubert · Graz
END:VEVENT
BEGIN:VEVENT
DTSTART;TZID=Europe/Vienna:20260630T173000
DTEND;TZID=Europe/Vienna:20260630T190000
DTSTAMP:20260419T170229
CREATED:20260316T103210Z
LAST-MODIFIED:20260324T091208Z
UID:15895-1782840600-1782846000@www.wsks-graz.at
SUMMARY:Mio\, mein Mio – Klassenspiel der 4. Klasse
DESCRIPTION:„Mio\, mein Mio“ von Astrid Lindgren ist ein fantastischer Kinderroman über den neunjährigen Waisen Bosse\, der bei lieblosen Pflegeeltern in Stockholm aufwächst. Er gelangt in das magische „Land der Ferne“\, wo er seinen Vater als König trifft und Prinz Mio wird. Zusammen mit seinem Freund Jum-Jum kämpft er gegen den bösen Ritter Kato\, der Kinder raubt.
URL:https://www.wsks-graz.at/aktuelles/mio-mein-mio-klassenspiel-der-4-klasse/
LOCATION:Festsaal der Waldorfschule Karl Schubert · Graz
END:VEVENT
END:VCALENDAR