BEGIN:VCALENDAR
VERSION:2.0
PRODID:-//Waldorfschule Karl Schubert · Graz - ECPv6.15.20//NONSGML v1.0//EN
CALSCALE:GREGORIAN
METHOD:PUBLISH
X-ORIGINAL-URL:https://www.wsks-graz.at
X-WR-CALDESC:Veranstaltungen für Waldorfschule Karl Schubert · Graz
REFRESH-INTERVAL;VALUE=DURATION:PT1H
X-Robots-Tag:noindex
X-PUBLISHED-TTL:PT1H
BEGIN:VTIMEZONE
TZID:Europe/Berlin
BEGIN:DAYLIGHT
TZOFFSETFROM:+0100
TZOFFSETTO:+0200
TZNAME:CEST
DTSTART:20220327T010000
END:DAYLIGHT
BEGIN:STANDARD
TZOFFSETFROM:+0200
TZOFFSETTO:+0100
TZNAME:CET
DTSTART:20221030T010000
END:STANDARD
BEGIN:DAYLIGHT
TZOFFSETFROM:+0100
TZOFFSETTO:+0200
TZNAME:CEST
DTSTART:20230326T010000
END:DAYLIGHT
BEGIN:STANDARD
TZOFFSETFROM:+0200
TZOFFSETTO:+0100
TZNAME:CET
DTSTART:20231029T010000
END:STANDARD
BEGIN:DAYLIGHT
TZOFFSETFROM:+0100
TZOFFSETTO:+0200
TZNAME:CEST
DTSTART:20240331T010000
END:DAYLIGHT
BEGIN:STANDARD
TZOFFSETFROM:+0200
TZOFFSETTO:+0100
TZNAME:CET
DTSTART:20241027T010000
END:STANDARD
END:VTIMEZONE
BEGIN:VEVENT
DTSTART;TZID=Europe/Berlin:20231002T190000
DTEND;TZID=Europe/Berlin:20231002T210000
DTSTAMP:20260421T134416
CREATED:20230922T051354Z
LAST-MODIFIED:20230922T070612Z
UID:8937-1696273200-1696280400@www.wsks-graz.at
SUMMARY:VORTRAG Uta Stolz: "Authentisches Lernen im Zeitalter Künstlicher Intelligenz"
DESCRIPTION:
URL:https://www.wsks-graz.at/aktuelles/vortrag-uta-stolz-authentisches-lernen-im-zeitalter-kuenstlicher-intelligenz/
ATTACH;FMTTYPE=image/jpeg:https://www.wsks-graz.at/wp-content/uploads/2023/09/Uta-Stolz-scaled.jpg
END:VEVENT
BEGIN:VEVENT
DTSTART;TZID=Europe/Berlin:20231014T103000
DTEND;TZID=Europe/Berlin:20231014T150000
DTSTAMP:20260421T134416
CREATED:20230731T085809Z
LAST-MODIFIED:20231001T160227Z
UID:8850-1697279400-1697295600@www.wsks-graz.at
SUMMARY:Feierliche Eröffnung des Neubaus\, Schulfeier & Waldorftag
DESCRIPTION:
URL:https://www.wsks-graz.at/aktuelles/feierliche-eroeffnung-des-neubaus-schulfeier-waldorftag/
ATTACH;FMTTYPE=image/jpeg:https://www.wsks-graz.at/wp-content/uploads/2023/10/PLAKAT.jpg
END:VEVENT
BEGIN:VEVENT
DTSTART;TZID=Europe/Berlin:20231014T140000
DTEND;TZID=Europe/Berlin:20231014T160000
DTSTAMP:20260421T134416
CREATED:20230914T143653Z
LAST-MODIFIED:20230914T143653Z
UID:8931-1697292000-1697299200@www.wsks-graz.at
SUMMARY:Tag der offenen Tür im KINDERGARTEN
DESCRIPTION:
URL:https://www.wsks-graz.at/aktuelles/tag-der-offenen-tuer-im-kindergarten-2/
LOCATION:Kindergarten
END:VEVENT
BEGIN:VEVENT
DTSTART;TZID=Europe/Berlin:20231020T090000
DTEND;TZID=Europe/Berlin:20231020T170000
DTSTAMP:20260421T134416
CREATED:20231014T175451Z
LAST-MODIFIED:20231014T175451Z
UID:9033-1697792400-1697821200@www.wsks-graz.at
SUMMARY:Schulinfomesse - Stadthalle Graz
DESCRIPTION:
URL:https://www.wsks-graz.at/aktuelles/schulinfomesse-stadthalle-graz/
END:VEVENT
BEGIN:VEVENT
DTSTART;TZID=Europe/Berlin:20231020T183000
DTEND;TZID=Europe/Berlin:20231020T183000
DTSTAMP:20260421T134416
CREATED:20231010T055011Z
LAST-MODIFIED:20231010T055011Z
UID:9019-1697826600-1697826600@www.wsks-graz.at
SUMMARY:Die Kinder des Monsieur Mathieu - Klassenspiel der 6. Klasse und Chor der 6. und 7. Klasse
DESCRIPTION:
URL:https://www.wsks-graz.at/aktuelles/die-kinder-des-monsieur-mathieu-klassenspiel-der-6-klasse-und-chor-der-6-und-7-klasse/
ATTACH;FMTTYPE=application/pdf:https://www.wsks-graz.at/wp-content/uploads/2023/10/Handzettel_Klassenspiel.pdf
END:VEVENT
BEGIN:VEVENT
DTSTART;TZID=Europe/Berlin:20231021T090000
DTEND;TZID=Europe/Berlin:20231021T170000
DTSTAMP:20260421T134416
CREATED:20231014T175536Z
LAST-MODIFIED:20231014T175536Z
UID:9036-1697878800-1697907600@www.wsks-graz.at
SUMMARY:Schulinfomesse - Stadthalle Graz
DESCRIPTION:
URL:https://www.wsks-graz.at/aktuelles/schulinfomesse-stadthalle-graz-2/
END:VEVENT
BEGIN:VEVENT
DTSTART;TZID=Europe/Berlin:20231021T153000
DTEND;TZID=Europe/Berlin:20231021T153000
DTSTAMP:20260421T134416
CREATED:20231010T055121Z
LAST-MODIFIED:20231010T055121Z
UID:9022-1697902200-1697902200@www.wsks-graz.at
SUMMARY:Die Kinder des Mosieur Mathieu - Klassenspiel der 6. Klasse und Chor der 6. und 7. Klasse
DESCRIPTION:
URL:https://www.wsks-graz.at/aktuelles/die-kinder-des-mosieur-mathieu-klassenspiel-der-6-klasse-und-chor-der-6-und-7-klasse/
ATTACH;FMTTYPE=image/png:https://www.wsks-graz.at/wp-content/uploads/2023/10/Bildschirmfoto-2023-10-10-um-07.45.04-e1697648323877.png
END:VEVENT
BEGIN:VEVENT
DTSTART;VALUE=DATE:20231026
DTEND;VALUE=DATE:20231106
DTSTAMP:20260421T134416
CREATED:20230425T115157Z
LAST-MODIFIED:20230425T115157Z
UID:8624-1698278400-1699228799@www.wsks-graz.at
SUMMARY:Herbstferien
DESCRIPTION:
URL:https://www.wsks-graz.at/aktuelles/herbstferien-4/
END:VEVENT
END:VCALENDAR