BEGIN:VCALENDAR
VERSION:2.0
PRODID:-//Waldorfschule Karl Schubert · Graz - ECPv6.15.20//NONSGML v1.0//EN
CALSCALE:GREGORIAN
METHOD:PUBLISH
X-WR-CALNAME:Waldorfschule Karl Schubert · Graz
X-ORIGINAL-URL:https://www.wsks-graz.at
X-WR-CALDESC:Veranstaltungen für Waldorfschule Karl Schubert · Graz
REFRESH-INTERVAL;VALUE=DURATION:PT1H
X-Robots-Tag:noindex
X-PUBLISHED-TTL:PT1H
BEGIN:VTIMEZONE
TZID:Europe/Berlin
BEGIN:DAYLIGHT
TZOFFSETFROM:+0100
TZOFFSETTO:+0200
TZNAME:CEST
DTSTART:20220327T010000
END:DAYLIGHT
BEGIN:STANDARD
TZOFFSETFROM:+0200
TZOFFSETTO:+0100
TZNAME:CET
DTSTART:20221030T010000
END:STANDARD
BEGIN:DAYLIGHT
TZOFFSETFROM:+0100
TZOFFSETTO:+0200
TZNAME:CEST
DTSTART:20230326T010000
END:DAYLIGHT
BEGIN:STANDARD
TZOFFSETFROM:+0200
TZOFFSETTO:+0100
TZNAME:CET
DTSTART:20231029T010000
END:STANDARD
BEGIN:DAYLIGHT
TZOFFSETFROM:+0100
TZOFFSETTO:+0200
TZNAME:CEST
DTSTART:20240331T010000
END:DAYLIGHT
BEGIN:STANDARD
TZOFFSETFROM:+0200
TZOFFSETTO:+0100
TZNAME:CET
DTSTART:20241027T010000
END:STANDARD
END:VTIMEZONE
BEGIN:VEVENT
DTSTART;VALUE=DATE:20230710
DTEND;VALUE=DATE:20230904
DTSTAMP:20260421T145611
CREATED:20220624T172617Z
LAST-MODIFIED:20220624T172617Z
UID:7743-1688947200-1693785599@www.wsks-graz.at
SUMMARY:Sommerferien
DESCRIPTION:
URL:https://www.wsks-graz.at/aktuelles/sommerferien-4/
END:VEVENT
BEGIN:VEVENT
DTSTART;VALUE=DATE:20230904
DTEND;VALUE=DATE:20230905
DTSTAMP:20260421T145611
CREATED:20230425T114918Z
LAST-MODIFIED:20230425T115342Z
UID:8616-1693785600-1693871999@www.wsks-graz.at
SUMMARY:Erster Schultag
DESCRIPTION:
URL:https://www.wsks-graz.at/aktuelles/1-schultag/
END:VEVENT
BEGIN:VEVENT
DTSTART;VALUE=DATE:20230905
DTEND;VALUE=DATE:20230906
DTSTAMP:20260421T145611
CREATED:20230425T114949Z
LAST-MODIFIED:20230425T114949Z
UID:8618-1693872000-1693958399@www.wsks-graz.at
SUMMARY:Erster Schultag 1. Klasse
DESCRIPTION:
URL:https://www.wsks-graz.at/aktuelles/erster-schultag-1-klasse/
END:VEVENT
BEGIN:VEVENT
DTSTART;TZID=Europe/Berlin:20230911T183000
DTEND;TZID=Europe/Berlin:20230911T183000
DTSTAMP:20260421T145611
CREATED:20230906T103025Z
LAST-MODIFIED:20230906T103025Z
UID:8897-1694457000-1694457000@www.wsks-graz.at
SUMMARY:Elternabend 4. Klasse
DESCRIPTION:
URL:https://www.wsks-graz.at/aktuelles/elternabend-4-klasse/
END:VEVENT
BEGIN:VEVENT
DTSTART;TZID=Europe/Berlin:20230912T183000
DTEND;TZID=Europe/Berlin:20230912T183000
DTSTAMP:20260421T145611
CREATED:20230906T102759Z
LAST-MODIFIED:20230909T150209Z
UID:8893-1694543400-1694543400@www.wsks-graz.at
SUMMARY:Elternabend 2. Klasse
DESCRIPTION:
URL:https://www.wsks-graz.at/aktuelles/elternabend-2-klasse/
END:VEVENT
BEGIN:VEVENT
DTSTART;TZID=Europe/Berlin:20230912T190000
DTEND;TZID=Europe/Berlin:20230912T190000
DTSTAMP:20260421T145611
CREATED:20230906T103120Z
LAST-MODIFIED:20230906T103120Z
UID:8901-1694545200-1694545200@www.wsks-graz.at
SUMMARY:Elternabend 6. Klasse
DESCRIPTION:
URL:https://www.wsks-graz.at/aktuelles/elternabend-6-klasse/
END:VEVENT
BEGIN:VEVENT
DTSTART;TZID=Europe/Berlin:20230913T190000
DTEND;TZID=Europe/Berlin:20230913T190000
DTSTAMP:20260421T145611
CREATED:20230906T103051Z
LAST-MODIFIED:20230906T103051Z
UID:8899-1694631600-1694631600@www.wsks-graz.at
SUMMARY:Elternabend 5. Klasse
DESCRIPTION:
URL:https://www.wsks-graz.at/aktuelles/elternabend-5-klasse/
END:VEVENT
BEGIN:VEVENT
DTSTART;TZID=Europe/Berlin:20230913T190000
DTEND;TZID=Europe/Berlin:20230913T190000
DTSTAMP:20260421T145611
CREATED:20230906T103254Z
LAST-MODIFIED:20230906T103254Z
UID:8907-1694631600-1694631600@www.wsks-graz.at
SUMMARY:Elternabend 9. Klasse
DESCRIPTION:
URL:https://www.wsks-graz.at/aktuelles/elternabend-9-klasse/
END:VEVENT
BEGIN:VEVENT
DTSTART;TZID=Europe/Berlin:20230918T183000
DTEND;TZID=Europe/Berlin:20230918T183000
DTSTAMP:20260421T145611
CREATED:20230906T102922Z
LAST-MODIFIED:20230906T102922Z
UID:8895-1695061800-1695061800@www.wsks-graz.at
SUMMARY:Elterabend 3. Klasse
DESCRIPTION:
URL:https://www.wsks-graz.at/aktuelles/elterabend-3-klasse/
END:VEVENT
BEGIN:VEVENT
DTSTART;TZID=Europe/Berlin:20230918T183000
DTEND;TZID=Europe/Berlin:20230918T183000
DTSTAMP:20260421T145611
CREATED:20230906T103154Z
LAST-MODIFIED:20230906T103154Z
UID:8903-1695061800-1695061800@www.wsks-graz.at
SUMMARY:Elternabend 7. Klasse
DESCRIPTION:
URL:https://www.wsks-graz.at/aktuelles/elternabend-7-klasse/
END:VEVENT
BEGIN:VEVENT
DTSTART;TZID=Europe/Berlin:20230919T180000
DTEND;TZID=Europe/Berlin:20230919T180000
DTSTAMP:20260421T145611
CREATED:20230830T190458Z
LAST-MODIFIED:20230830T190458Z
UID:8873-1695146400-1695146400@www.wsks-graz.at
SUMMARY:Elternabend der 1. Klasse
DESCRIPTION:
URL:https://www.wsks-graz.at/aktuelles/elternabend-der-1-klasse-2/
LOCATION:1. Klasse
END:VEVENT
BEGIN:VEVENT
DTSTART;TZID=Europe/Berlin:20230919T180000
DTEND;TZID=Europe/Berlin:20230919T180000
DTSTAMP:20260421T145611
CREATED:20230906T103331Z
LAST-MODIFIED:20230906T103331Z
UID:8909-1695146400-1695146400@www.wsks-graz.at
SUMMARY:Elternabend 10. Klasse
DESCRIPTION:
URL:https://www.wsks-graz.at/aktuelles/elternabend-10-klasse/
END:VEVENT
BEGIN:VEVENT
DTSTART;TZID=Europe/Berlin:20230919T180000
DTEND;TZID=Europe/Berlin:20230919T180000
DTSTAMP:20260421T145611
CREATED:20230906T103400Z
LAST-MODIFIED:20230906T103400Z
UID:8911-1695146400-1695146400@www.wsks-graz.at
SUMMARY:Elternabend 11. Klasse
DESCRIPTION:
URL:https://www.wsks-graz.at/aktuelles/elternabend-11-klasse/
END:VEVENT
BEGIN:VEVENT
DTSTART;TZID=Europe/Berlin:20230920T190000
DTEND;TZID=Europe/Berlin:20230920T190000
DTSTAMP:20260421T145611
CREATED:20230906T103222Z
LAST-MODIFIED:20230906T103222Z
UID:8905-1695236400-1695236400@www.wsks-graz.at
SUMMARY:Elternabend 8. Klasse
DESCRIPTION:
URL:https://www.wsks-graz.at/aktuelles/elternabend-8-klasse/
END:VEVENT
BEGIN:VEVENT
DTSTART;TZID=Europe/Berlin:20230922T143000
DTEND;TZID=Europe/Berlin:20230922T180000
DTSTAMP:20260421T145611
CREATED:20230425T115029Z
LAST-MODIFIED:20230911T113644Z
UID:8620-1695393000-1695405600@www.wsks-graz.at
SUMMARY:Elternschule
DESCRIPTION:
URL:https://www.wsks-graz.at/aktuelles/elternschule-3/
END:VEVENT
BEGIN:VEVENT
DTSTART;TZID=Europe/Berlin:20230923T090000
DTEND;TZID=Europe/Berlin:20230923T120000
DTSTAMP:20260421T145611
CREATED:20230816T181014Z
LAST-MODIFIED:20230816T181014Z
UID:8858-1695459600-1695470400@www.wsks-graz.at
SUMMARY:Kinderflohmarkt des Kindergartens
DESCRIPTION:Anmeldung unter: eszter.keserue@wsks-graz.at \nGebühren pro Stand: € 6\,00
URL:https://www.wsks-graz.at/aktuelles/kinderflohmarkt-des-kindergartens/
ATTACH;FMTTYPE=application/pdf:https://www.wsks-graz.at/wp-content/uploads/2023/08/Kinderflohmarkt.pdf
END:VEVENT
BEGIN:VEVENT
DTSTART;VALUE=DATE:20230929
DTEND;VALUE=DATE:20230930
DTSTAMP:20260421T145611
CREATED:20230425T115126Z
LAST-MODIFIED:20230425T115423Z
UID:8622-1695945600-1696031999@www.wsks-graz.at
SUMMARY:Michaeli
DESCRIPTION:
URL:https://www.wsks-graz.at/aktuelles/michaeli/
END:VEVENT
END:VCALENDAR