BEGIN:VCALENDAR
VERSION:2.0
PRODID:-//Waldorfschule Karl Schubert · Graz - ECPv6.15.20//NONSGML v1.0//EN
CALSCALE:GREGORIAN
METHOD:PUBLISH
X-ORIGINAL-URL:https://www.wsks-graz.at
X-WR-CALDESC:Veranstaltungen für Waldorfschule Karl Schubert · Graz
REFRESH-INTERVAL;VALUE=DURATION:PT1H
X-Robots-Tag:noindex
X-PUBLISHED-TTL:PT1H
BEGIN:VTIMEZONE
TZID:Europe/Berlin
BEGIN:DAYLIGHT
TZOFFSETFROM:+0100
TZOFFSETTO:+0200
TZNAME:CEST
DTSTART:20220327T010000
END:DAYLIGHT
BEGIN:STANDARD
TZOFFSETFROM:+0200
TZOFFSETTO:+0100
TZNAME:CET
DTSTART:20221030T010000
END:STANDARD
BEGIN:DAYLIGHT
TZOFFSETFROM:+0100
TZOFFSETTO:+0200
TZNAME:CEST
DTSTART:20230326T010000
END:DAYLIGHT
BEGIN:STANDARD
TZOFFSETFROM:+0200
TZOFFSETTO:+0100
TZNAME:CET
DTSTART:20231029T010000
END:STANDARD
BEGIN:DAYLIGHT
TZOFFSETFROM:+0100
TZOFFSETTO:+0200
TZNAME:CEST
DTSTART:20240331T010000
END:DAYLIGHT
BEGIN:STANDARD
TZOFFSETFROM:+0200
TZOFFSETTO:+0100
TZNAME:CET
DTSTART:20241027T010000
END:STANDARD
END:VTIMEZONE
BEGIN:VEVENT
DTSTART;TZID=Europe/Berlin:20230505T190000
DTEND;TZID=Europe/Berlin:20230505T190000
DTSTAMP:20260422T002423
CREATED:20230421T102011Z
LAST-MODIFIED:20230421T105211Z
UID:8605-1683313200-1683313200@www.wsks-graz.at
SUMMARY:"Viel Lärm um Nichts" - Klassenspiel der 8. Klasse
DESCRIPTION:
URL:https://www.wsks-graz.at/aktuelles/viel-laerm-um-nichts-klassenspiel-der-8-klasse/
ATTACH;FMTTYPE=image/jpeg:https://www.wsks-graz.at/wp-content/uploads/2023/04/Plakat_1-scaled.jpg
END:VEVENT
BEGIN:VEVENT
DTSTART;TZID=Europe/Berlin:20230506T190000
DTEND;TZID=Europe/Berlin:20230506T190000
DTSTAMP:20260422T002423
CREATED:20230421T102042Z
LAST-MODIFIED:20230421T105302Z
UID:8607-1683399600-1683399600@www.wsks-graz.at
SUMMARY:"Viel Lärm um Nichts" - Klassenspiel der 8. Klasse
DESCRIPTION:
URL:https://www.wsks-graz.at/aktuelles/viel-laerm-um-nichts-klassenspiel-der-8-klasse-2/
ATTACH;FMTTYPE=image/jpeg:https://www.wsks-graz.at/wp-content/uploads/2023/04/Plakat_1-scaled.jpg
END:VEVENT
BEGIN:VEVENT
DTSTART;TZID=Europe/Berlin:20230507T170000
DTEND;TZID=Europe/Berlin:20230507T170000
DTSTAMP:20260422T002423
CREATED:20230421T102059Z
LAST-MODIFIED:20230421T105233Z
UID:8609-1683478800-1683478800@www.wsks-graz.at
SUMMARY:"Viel Lärm um Nichts" - Klassenspiel der 8. Klasse
DESCRIPTION:
URL:https://www.wsks-graz.at/aktuelles/viel-laerm-um-nichts-klassenspiel-der-8-klasse-3/
ATTACH;FMTTYPE=image/jpeg:https://www.wsks-graz.at/wp-content/uploads/2023/04/Plakat_1-scaled.jpg
END:VEVENT
BEGIN:VEVENT
DTSTART;TZID=Europe/Berlin:20230525T170000
DTEND;TZID=Europe/Berlin:20230525T193000
DTSTAMP:20260422T002423
CREATED:20230517T103305Z
LAST-MODIFIED:20230524T103602Z
UID:8696-1685034000-1685043000@www.wsks-graz.at
SUMMARY:Präsentation der Jahresabschlussarbeiten der 12. Klasse
DESCRIPTION:Unsere 12. Klasse präsentiert ihre Jahresabschlussarbeiten! Die Präsentation findet am 25. Mai von 17 bis 19:30 Uhr im Festsaal der der Waldorfschule Karl-Schubert statt. Begleitet wird das Programm von Eurythmieaufführungen der SchülerInnen.\n\n\n\nDONNERSTAG 25. Mai 17 – 19:30 \n\n\n\n\n\n\nSchülerIn\nThema\n\n\n\nPhilipp \n\n\nWas sind Exoplaneten? – Alles über Exoplaneten \n\n\n\n\nMarie \n\n\nMaler/Innen mit psychischen Krankheiten: Kann man die Krankheit in der Kunst erkennen? \n\n\n\n\nNikolai \n\n\nDie Schuldfrage des Ersten Weltkriegs \n\n\n\n\nJakob \n\n\nEmpathie – Wie sie entsteht und warum manche Menschen weniger davon haben \n\n\n\n\nNoah \n\n\nFolgen einer Flucht bei Kindern und Jugendlichen
URL:https://www.wsks-graz.at/aktuelles/praesentation-der-jahresabschlussarbeiten-der-12-klasse/
END:VEVENT
BEGIN:VEVENT
DTSTART;TZID=Europe/Berlin:20230526T150000
DTEND;TZID=Europe/Berlin:20230526T180000
DTSTAMP:20260422T002423
CREATED:20230517T103418Z
LAST-MODIFIED:20230524T103623Z
UID:8698-1685113200-1685124000@www.wsks-graz.at
SUMMARY:Präsentation der Jahresabschlussarbeiten der 12. Klasse
DESCRIPTION:Unsere 12. Klasse präsentiert ihre Jahresabschlussarbeiten! Die Präsentation findet am 26. Mai von 15 bis 18 Uhr im Festsaal der Waldorfschule Karl-Schubert statt. Begleitet wird das Programm von Eurythmieaufführungen der SchülerInnen.\n\n\nFREITAG 26. Mai 15 – 18 UHR \n\n\n\n\n\n\nSchülerIn\nThema\n\n\n\nFlora \n\n\nMusik und wie sie sich auf die geistige und körperliche Gesundheit eines Menschen auswirkt \n\n\n\n\nLaurin \nLetizia \n\n\nDopamin und wie es uns beeinflusst \nVeganismus: Auswirkungen einer veganen Lebensweise \n\n\n\n\n\n\n\n\nIda \n\n\nPlaceboeffekt – Wie wirkt sich das Arzt – Patientengespräch auf den Patienten aus? \n\n\n\n\nAnika \n\n\nUrsachen und Symptome von Depressionen im Kindes- und Jugendalter \n\n\n\n Felix\nDie Fibonacci-Folge und der Goldene Schnitt in der Natur
URL:https://www.wsks-graz.at/aktuelles/praesentation-der-jahresabschlussarbeiten-der-12-klasse-2/
END:VEVENT
BEGIN:VEVENT
DTSTART;VALUE=DATE:20230529
DTEND;VALUE=DATE:20230605
DTSTAMP:20260422T002423
CREATED:20220624T172414Z
LAST-MODIFIED:20220624T172414Z
UID:7737-1685318400-1685923199@www.wsks-graz.at
SUMMARY:Pfingstferien
DESCRIPTION:
URL:https://www.wsks-graz.at/aktuelles/pfingstferien-4/
END:VEVENT
END:VCALENDAR