BEGIN:VCALENDAR
VERSION:2.0
PRODID:-//Waldorfschule Karl Schubert · Graz - ECPv6.15.20//NONSGML v1.0//EN
CALSCALE:GREGORIAN
METHOD:PUBLISH
X-ORIGINAL-URL:https://www.wsks-graz.at
X-WR-CALDESC:Veranstaltungen für Waldorfschule Karl Schubert · Graz
REFRESH-INTERVAL;VALUE=DURATION:PT1H
X-Robots-Tag:noindex
X-PUBLISHED-TTL:PT1H
BEGIN:VTIMEZONE
TZID:Europe/Berlin
BEGIN:DAYLIGHT
TZOFFSETFROM:+0100
TZOFFSETTO:+0200
TZNAME:CEST
DTSTART:20220327T010000
END:DAYLIGHT
BEGIN:STANDARD
TZOFFSETFROM:+0200
TZOFFSETTO:+0100
TZNAME:CET
DTSTART:20221030T010000
END:STANDARD
BEGIN:DAYLIGHT
TZOFFSETFROM:+0100
TZOFFSETTO:+0200
TZNAME:CEST
DTSTART:20230326T010000
END:DAYLIGHT
BEGIN:STANDARD
TZOFFSETFROM:+0200
TZOFFSETTO:+0100
TZNAME:CET
DTSTART:20231029T010000
END:STANDARD
BEGIN:DAYLIGHT
TZOFFSETFROM:+0100
TZOFFSETTO:+0200
TZNAME:CEST
DTSTART:20240331T010000
END:DAYLIGHT
BEGIN:STANDARD
TZOFFSETFROM:+0200
TZOFFSETTO:+0100
TZNAME:CET
DTSTART:20241027T010000
END:STANDARD
END:VTIMEZONE
BEGIN:VEVENT
DTSTART;TZID=Europe/Berlin:20230211T103000
DTEND;TZID=Europe/Berlin:20230211T120000
DTSTAMP:20260422T034843
CREATED:20220624T172237Z
LAST-MODIFIED:20220624T172237Z
UID:7731-1676111400-1676116800@www.wsks-graz.at
SUMMARY:Schulfeier
DESCRIPTION:
URL:https://www.wsks-graz.at/aktuelles/schulfeier-8/
END:VEVENT
BEGIN:VEVENT
DTSTART;VALUE=DATE:20230220
DTEND;VALUE=DATE:20230227
DTSTAMP:20260422T034843
CREATED:20220624T172307Z
LAST-MODIFIED:20220624T172307Z
UID:7733-1676851200-1677455999@www.wsks-graz.at
SUMMARY:Semesterferien
DESCRIPTION:
URL:https://www.wsks-graz.at/aktuelles/semesterferien-4/
END:VEVENT
END:VCALENDAR