BEGIN:VCALENDAR
VERSION:2.0
PRODID:-//Waldorfschule Karl Schubert · Graz - ECPv6.15.20//NONSGML v1.0//EN
CALSCALE:GREGORIAN
METHOD:PUBLISH
X-ORIGINAL-URL:https://www.wsks-graz.at
X-WR-CALDESC:Veranstaltungen für Waldorfschule Karl Schubert · Graz
REFRESH-INTERVAL;VALUE=DURATION:PT1H
X-Robots-Tag:noindex
X-PUBLISHED-TTL:PT1H
BEGIN:VTIMEZONE
TZID:Europe/Berlin
BEGIN:DAYLIGHT
TZOFFSETFROM:+0100
TZOFFSETTO:+0200
TZNAME:CEST
DTSTART:20210328T010000
END:DAYLIGHT
BEGIN:STANDARD
TZOFFSETFROM:+0200
TZOFFSETTO:+0100
TZNAME:CET
DTSTART:20211031T010000
END:STANDARD
BEGIN:DAYLIGHT
TZOFFSETFROM:+0100
TZOFFSETTO:+0200
TZNAME:CEST
DTSTART:20220327T010000
END:DAYLIGHT
BEGIN:STANDARD
TZOFFSETFROM:+0200
TZOFFSETTO:+0100
TZNAME:CET
DTSTART:20221030T010000
END:STANDARD
BEGIN:DAYLIGHT
TZOFFSETFROM:+0100
TZOFFSETTO:+0200
TZNAME:CEST
DTSTART:20230326T010000
END:DAYLIGHT
BEGIN:STANDARD
TZOFFSETFROM:+0200
TZOFFSETTO:+0100
TZNAME:CET
DTSTART:20231029T010000
END:STANDARD
BEGIN:DAYLIGHT
TZOFFSETFROM:+0100
TZOFFSETTO:+0200
TZNAME:CEST
DTSTART:20240331T010000
END:DAYLIGHT
BEGIN:STANDARD
TZOFFSETFROM:+0200
TZOFFSETTO:+0100
TZNAME:CET
DTSTART:20241027T010000
END:STANDARD
END:VTIMEZONE
BEGIN:VEVENT
DTSTART;VALUE=DATE:20221226
DTEND;VALUE=DATE:20230109
DTSTAMP:20260422T051207
CREATED:20220624T172200Z
LAST-MODIFIED:20220624T172200Z
UID:7729-1672012800-1673222399@www.wsks-graz.at
SUMMARY:Weihnachtsferien
DESCRIPTION:
URL:https://www.wsks-graz.at/aktuelles/weihnachtsferien-3/
END:VEVENT
BEGIN:VEVENT
DTSTART;VALUE=DATE:20230116
DTEND;VALUE=DATE:20230123
DTSTAMP:20260422T051207
CREATED:20230111T093907Z
LAST-MODIFIED:20230111T093907Z
UID:8320-1673827200-1674431999@www.wsks-graz.at
SUMMARY:Aufnahmegespräche für die 1. Klasse 2023/24
DESCRIPTION:Anmeldung bei Frau Lösch im Schulbüro unter 0316 / 30 24 34 oder office@wsks-graz.at.
URL:https://www.wsks-graz.at/aktuelles/aufnahmegespraeche-fuer-die-1-klasse-2023-24/
LOCATION:Waldorfschule Karl Schubert · Graz
ORGANIZER;CN="Waldorfschule Karl Schubert":MAILTO:office@wsks-graz.at
END:VEVENT
BEGIN:VEVENT
DTSTART;TZID=Europe/Berlin:20230123T140000
DTEND;TZID=Europe/Berlin:20230127T000000
DTSTAMP:20260422T051207
CREATED:20230124T150724Z
LAST-MODIFIED:20230124T150724Z
UID:8358-1674482400-1674777600@www.wsks-graz.at
SUMMARY:8. Klassreferate
DESCRIPTION:
URL:https://www.wsks-graz.at/aktuelles/8-klassreferate/
END:VEVENT
END:VCALENDAR