BEGIN:VCALENDAR
VERSION:2.0
PRODID:-//Waldorfschule Karl Schubert · Graz - ECPv6.15.20//NONSGML v1.0//EN
CALSCALE:GREGORIAN
METHOD:PUBLISH
X-WR-CALNAME:Waldorfschule Karl Schubert · Graz
X-ORIGINAL-URL:https://www.wsks-graz.at
X-WR-CALDESC:Veranstaltungen für Waldorfschule Karl Schubert · Graz
REFRESH-INTERVAL;VALUE=DURATION:PT1H
X-Robots-Tag:noindex
X-PUBLISHED-TTL:PT1H
BEGIN:VTIMEZONE
TZID:Europe/Berlin
BEGIN:DAYLIGHT
TZOFFSETFROM:+0100
TZOFFSETTO:+0200
TZNAME:CEST
DTSTART:20210328T010000
END:DAYLIGHT
BEGIN:STANDARD
TZOFFSETFROM:+0200
TZOFFSETTO:+0100
TZNAME:CET
DTSTART:20211031T010000
END:STANDARD
BEGIN:DAYLIGHT
TZOFFSETFROM:+0100
TZOFFSETTO:+0200
TZNAME:CEST
DTSTART:20220327T010000
END:DAYLIGHT
BEGIN:STANDARD
TZOFFSETFROM:+0200
TZOFFSETTO:+0100
TZNAME:CET
DTSTART:20221030T010000
END:STANDARD
BEGIN:DAYLIGHT
TZOFFSETFROM:+0100
TZOFFSETTO:+0200
TZNAME:CEST
DTSTART:20230326T010000
END:DAYLIGHT
BEGIN:STANDARD
TZOFFSETFROM:+0200
TZOFFSETTO:+0100
TZNAME:CET
DTSTART:20231029T010000
END:STANDARD
BEGIN:DAYLIGHT
TZOFFSETFROM:+0100
TZOFFSETTO:+0200
TZNAME:CEST
DTSTART:20240331T010000
END:DAYLIGHT
BEGIN:STANDARD
TZOFFSETFROM:+0200
TZOFFSETTO:+0100
TZNAME:CET
DTSTART:20241027T010000
END:STANDARD
END:VTIMEZONE
BEGIN:VEVENT
DTSTART;TZID=Europe/Berlin:20221204T150000
DTEND;TZID=Europe/Berlin:20221204T150000
DTSTAMP:20260422T063119
CREATED:20221114T133111Z
LAST-MODIFIED:20221114T133138Z
UID:8103-1670166000-1670166000@www.wsks-graz.at
SUMMARY:Open STudio Orchestra: "Café Graz" - Kammersäle Graz
DESCRIPTION:
URL:https://www.wsks-graz.at/aktuelles/open-studio-orchestra-cafe-graz-kammersaele-graz/
END:VEVENT
BEGIN:VEVENT
DTSTART;TZID=Europe/Berlin:20221212T170000
DTEND;TZID=Europe/Berlin:20221212T170000
DTSTAMP:20260422T063119
CREATED:20221206T060433Z
LAST-MODIFIED:20221206T060433Z
UID:8163-1670864400-1670864400@www.wsks-graz.at
SUMMARY:Weihnachtliches Konzert/Vorspielstunde
DESCRIPTION:
URL:https://www.wsks-graz.at/aktuelles/weihnachtliches-konzert-vorspielstunde/
LOCATION:Festsaal
ATTACH;FMTTYPE=image/jpeg:https://www.wsks-graz.at/wp-content/uploads/2022/11/WEIHNACHTSKONZERT-endverison.jpg
ORGANIZER;CN="Waldorfschule Karl Schubert":MAILTO:office@wsks-graz.at
END:VEVENT
BEGIN:VEVENT
DTSTART;TZID=Europe/Berlin:20221216T193000
DTEND;TZID=Europe/Berlin:20221216T193000
DTSTAMP:20260422T063119
CREATED:20221121T091021Z
LAST-MODIFIED:20221121T091314Z
UID:8122-1671219000-1671219000@www.wsks-graz.at
SUMMARY:Open STudio Ensemble - Konzert: "Experience"
DESCRIPTION:Musiker: \nBenedikt Opreanu🇲🇩 (Geige/ E bass)\nChristian Kontur🇦🇹 (Klarinette/Klavier)\nDimitris Gelis🇬🇷 (Akkordeon/Klavier)\nFrancisc Opreanu🇲🇩 (Klavier/Tenorsaxophon)\nLeonhard Beidl🇦🇹 (Cello)\nMagdalena Beidl🇦🇹 (Geige/Gesang) \nProgramm: Minimal music\, Tango\, Chanson und eigene Kompositionen. \nEintritt: freiwillige Spende
URL:https://www.wsks-graz.at/aktuelles/open-studio-ensemble-experience/
LOCATION:Festsaal
ATTACH;FMTTYPE=image/jpeg:https://www.wsks-graz.at/wp-content/uploads/2022/11/4a20c0d9-4c08-4cd0-af57-67448d94868c.jpg
END:VEVENT
BEGIN:VEVENT
DTSTART;VALUE=DATE:20221226
DTEND;VALUE=DATE:20230109
DTSTAMP:20260422T063119
CREATED:20220624T172200Z
LAST-MODIFIED:20220624T172200Z
UID:7729-1672012800-1673222399@www.wsks-graz.at
SUMMARY:Weihnachtsferien
DESCRIPTION:
URL:https://www.wsks-graz.at/aktuelles/weihnachtsferien-3/
END:VEVENT
END:VCALENDAR