BEGIN:VCALENDAR
VERSION:2.0
PRODID:-//Waldorfschule Karl Schubert · Graz - ECPv6.15.20//NONSGML v1.0//EN
CALSCALE:GREGORIAN
METHOD:PUBLISH
X-ORIGINAL-URL:https://www.wsks-graz.at
X-WR-CALDESC:Veranstaltungen für Waldorfschule Karl Schubert · Graz
REFRESH-INTERVAL;VALUE=DURATION:PT1H
X-Robots-Tag:noindex
X-PUBLISHED-TTL:PT1H
BEGIN:VTIMEZONE
TZID:Europe/Berlin
BEGIN:DAYLIGHT
TZOFFSETFROM:+0100
TZOFFSETTO:+0200
TZNAME:CEST
DTSTART:20210328T010000
END:DAYLIGHT
BEGIN:STANDARD
TZOFFSETFROM:+0200
TZOFFSETTO:+0100
TZNAME:CET
DTSTART:20211031T010000
END:STANDARD
BEGIN:DAYLIGHT
TZOFFSETFROM:+0100
TZOFFSETTO:+0200
TZNAME:CEST
DTSTART:20220327T010000
END:DAYLIGHT
BEGIN:STANDARD
TZOFFSETFROM:+0200
TZOFFSETTO:+0100
TZNAME:CET
DTSTART:20221030T010000
END:STANDARD
BEGIN:DAYLIGHT
TZOFFSETFROM:+0100
TZOFFSETTO:+0200
TZNAME:CEST
DTSTART:20230326T010000
END:DAYLIGHT
BEGIN:STANDARD
TZOFFSETFROM:+0200
TZOFFSETTO:+0100
TZNAME:CET
DTSTART:20231029T010000
END:STANDARD
END:VTIMEZONE
BEGIN:VEVENT
DTSTART;VALUE=DATE:20221013
DTEND;VALUE=DATE:20221016
DTSTAMP:20260422T101916
CREATED:20220624T171854Z
LAST-MODIFIED:20220624T171854Z
UID:7720-1665619200-1665878399@www.wsks-graz.at
SUMMARY:Schulinfomesse
DESCRIPTION:
URL:https://www.wsks-graz.at/aktuelles/schulinfomesse-3/
LOCATION:Graz Stadthalle
END:VEVENT
BEGIN:VEVENT
DTSTART;TZID=Europe/Berlin:20221014T093000
DTEND;TZID=Europe/Berlin:20221014T130000
DTSTAMP:20260422T101916
CREATED:20220921T090705Z
LAST-MODIFIED:20220921T091100Z
UID:7914-1665739800-1665752400@www.wsks-graz.at
SUMMARY:Nadelfilz – Heilige Familie
DESCRIPTION:Bitte bei Bettina 0664/3835566 oder Marianne 0660/5455511 anmelden.
URL:https://www.wsks-graz.at/aktuelles/nadelfilz-heilige-familie/
LOCATION:Fam. Ruhri\, Lindenweg 32\, St.Radegund\, 8061
END:VEVENT
BEGIN:VEVENT
DTSTART;TZID=Europe/Berlin:20221019T190000
DTEND;TZID=Europe/Berlin:20221019T210000
DTSTAMP:20260422T101916
CREATED:20220921T090845Z
LAST-MODIFIED:20220921T091134Z
UID:7916-1666206000-1666213200@www.wsks-graz.at
SUMMARY:Nadelfilz – Engel
DESCRIPTION:Bitte bei Bettina 0664/3835566 oder Marianne 0660/5455511 anmelden.
URL:https://www.wsks-graz.at/aktuelles/nadelfilz-engel-in-der-schule/
LOCATION:6. Klasse
END:VEVENT
BEGIN:VEVENT
DTSTART;TZID=Europe/Berlin:20221021T093000
DTEND;TZID=Europe/Berlin:20221021T130000
DTSTAMP:20260422T101916
CREATED:20220921T090944Z
LAST-MODIFIED:20220921T091201Z
UID:7919-1666344600-1666357200@www.wsks-graz.at
SUMMARY:Nadelfilz – Heilige Könige
DESCRIPTION:Bitte bei Bettina 0664/3835566 oder Marianne 0660/5455511 anmelden
URL:https://www.wsks-graz.at/aktuelles/nadelfilz-heiligen-koenige/
LOCATION:Fam. Ruhri\, Lindenweg 32\, St.Radegund\, 8061
END:VEVENT
BEGIN:VEVENT
DTSTART;TZID=Europe/Berlin:20221022T103000
DTEND;TZID=Europe/Berlin:20221022T120000
DTSTAMP:20260422T101916
CREATED:20220624T171934Z
LAST-MODIFIED:20220624T171934Z
UID:7723-1666434600-1666440000@www.wsks-graz.at
SUMMARY:Schulfeier
DESCRIPTION:
URL:https://www.wsks-graz.at/aktuelles/schulfeier-7/
END:VEVENT
BEGIN:VEVENT
DTSTART;VALUE=DATE:20221026
DTEND;VALUE=DATE:20221103
DTSTAMP:20260422T101916
CREATED:20220624T172028Z
LAST-MODIFIED:20220624T172028Z
UID:7725-1666742400-1667433599@www.wsks-graz.at
SUMMARY:Herbstferien
DESCRIPTION:
URL:https://www.wsks-graz.at/aktuelles/herbstferien-3/
END:VEVENT
END:VCALENDAR