BEGIN:VCALENDAR
VERSION:2.0
PRODID:-//Waldorfschule Karl Schubert · Graz - ECPv6.15.20//NONSGML v1.0//EN
CALSCALE:GREGORIAN
METHOD:PUBLISH
X-WR-CALNAME:Waldorfschule Karl Schubert · Graz
X-ORIGINAL-URL:https://www.wsks-graz.at
X-WR-CALDESC:Veranstaltungen für Waldorfschule Karl Schubert · Graz
REFRESH-INTERVAL;VALUE=DURATION:PT1H
X-Robots-Tag:noindex
X-PUBLISHED-TTL:PT1H
BEGIN:VTIMEZONE
TZID:Europe/Vienna
BEGIN:DAYLIGHT
TZOFFSETFROM:+0100
TZOFFSETTO:+0200
TZNAME:CEST
DTSTART:20250330T010000
END:DAYLIGHT
BEGIN:STANDARD
TZOFFSETFROM:+0200
TZOFFSETTO:+0100
TZNAME:CET
DTSTART:20251026T010000
END:STANDARD
BEGIN:DAYLIGHT
TZOFFSETFROM:+0100
TZOFFSETTO:+0200
TZNAME:CEST
DTSTART:20260329T010000
END:DAYLIGHT
BEGIN:STANDARD
TZOFFSETFROM:+0200
TZOFFSETTO:+0100
TZNAME:CET
DTSTART:20261025T010000
END:STANDARD
BEGIN:DAYLIGHT
TZOFFSETFROM:+0100
TZOFFSETTO:+0200
TZNAME:CEST
DTSTART:20270328T010000
END:DAYLIGHT
BEGIN:STANDARD
TZOFFSETFROM:+0200
TZOFFSETTO:+0100
TZNAME:CET
DTSTART:20271031T010000
END:STANDARD
END:VTIMEZONE
BEGIN:VEVENT
DTSTART;TZID=Europe/Vienna:20261023T173000
DTEND;TZID=Europe/Vienna:20261023T190000
DTSTAMP:20260420T003007
CREATED:20260330T093926Z
LAST-MODIFIED:20260330T172441Z
UID:16213-1792776600-1792782000@www.wsks-graz.at
SUMMARY:Nightmare before Christmas – Klassenspiel der 6. Klasse
DESCRIPTION:Was passiert\, wenn der König von Halloween Weihnachten übernehmen will? Die 6. Klasse zeigt es in „Nightmare Before Christmas“ – ein Abend voller Gesang\, Grusel und großer Überraschungen.
URL:https://www.wsks-graz.at/aktuelles/nightmare-before-christmas-klassenspiel-der-6-klasse/
LOCATION:Festsaal der Waldorfschule Karl Schubert · Graz
END:VEVENT
END:VCALENDAR