BEGIN:VCALENDAR
VERSION:2.0
PRODID:-//Waldorfschule Karl Schubert · Graz - ECPv6.15.20//NONSGML v1.0//EN
CALSCALE:GREGORIAN
METHOD:PUBLISH
X-WR-CALNAME:Waldorfschule Karl Schubert · Graz
X-ORIGINAL-URL:https://www.wsks-graz.at
X-WR-CALDESC:Veranstaltungen für Waldorfschule Karl Schubert · Graz
REFRESH-INTERVAL;VALUE=DURATION:PT1H
X-Robots-Tag:noindex
X-PUBLISHED-TTL:PT1H
BEGIN:VTIMEZONE
TZID:Europe/Vienna
BEGIN:DAYLIGHT
TZOFFSETFROM:+0100
TZOFFSETTO:+0200
TZNAME:CEST
DTSTART:20250330T010000
END:DAYLIGHT
BEGIN:STANDARD
TZOFFSETFROM:+0200
TZOFFSETTO:+0100
TZNAME:CET
DTSTART:20251026T010000
END:STANDARD
BEGIN:DAYLIGHT
TZOFFSETFROM:+0100
TZOFFSETTO:+0200
TZNAME:CEST
DTSTART:20260329T010000
END:DAYLIGHT
BEGIN:STANDARD
TZOFFSETFROM:+0200
TZOFFSETTO:+0100
TZNAME:CET
DTSTART:20261025T010000
END:STANDARD
BEGIN:DAYLIGHT
TZOFFSETFROM:+0100
TZOFFSETTO:+0200
TZNAME:CEST
DTSTART:20270328T010000
END:DAYLIGHT
BEGIN:STANDARD
TZOFFSETFROM:+0200
TZOFFSETTO:+0100
TZNAME:CET
DTSTART:20271031T010000
END:STANDARD
END:VTIMEZONE
BEGIN:VEVENT
DTSTART;TZID=Europe/Vienna:20260508T103000
DTEND;TZID=Europe/Vienna:20260508T123000
DTSTAMP:20260419T165452
CREATED:20251125T131153Z
LAST-MODIFIED:20260328T182913Z
UID:14624-1778236200-1778243400@www.wsks-graz.at
SUMMARY:Der kaukasische Kreidekreis von Bertolt Brecht - Klassenspiel der 8. Klasse - interne Aufführung
DESCRIPTION:
URL:https://www.wsks-graz.at/aktuelles/der-kaukasische-kreidekreis-von-bertolt-brecht-klassenspiel-der-8-klasse/
ATTACH;FMTTYPE=image/jpeg:https://www.wsks-graz.at/wp-content/uploads/2026/03/Kreidekreis.jpg
END:VEVENT
BEGIN:VEVENT
DTSTART;TZID=Europe/Vienna:20260508T180000
DTEND;TZID=Europe/Vienna:20260508T200000
DTSTAMP:20260419T165452
CREATED:20260114T115807Z
LAST-MODIFIED:20260328T182757Z
UID:15444-1778263200-1778270400@www.wsks-graz.at
SUMMARY:Der kaukasische Kreidekreis von Bertolt Brecht - Klassenspiel der 8. Klasse
DESCRIPTION:
URL:https://www.wsks-graz.at/aktuelles/der-kaukasische-kreidekreis-von-bertolt-brecht-klassenspiel-der-8-klasse-3/
ATTACH;FMTTYPE=image/jpeg:https://www.wsks-graz.at/wp-content/uploads/2026/03/Kreidekreis.jpg
END:VEVENT
END:VCALENDAR