BEGIN:VCALENDAR
VERSION:2.0
PRODID:-//Waldorfschule Karl Schubert · Graz - ECPv6.15.20//NONSGML v1.0//EN
CALSCALE:GREGORIAN
METHOD:PUBLISH
X-WR-CALNAME:Waldorfschule Karl Schubert · Graz
X-ORIGINAL-URL:https://www.wsks-graz.at
X-WR-CALDESC:Veranstaltungen für Waldorfschule Karl Schubert · Graz
REFRESH-INTERVAL;VALUE=DURATION:PT1H
X-Robots-Tag:noindex
X-PUBLISHED-TTL:PT1H
BEGIN:VTIMEZONE
TZID:Europe/Berlin
BEGIN:DAYLIGHT
TZOFFSETFROM:+0100
TZOFFSETTO:+0200
TZNAME:CEST
DTSTART:20220327T010000
END:DAYLIGHT
BEGIN:STANDARD
TZOFFSETFROM:+0200
TZOFFSETTO:+0100
TZNAME:CET
DTSTART:20221030T010000
END:STANDARD
BEGIN:DAYLIGHT
TZOFFSETFROM:+0100
TZOFFSETTO:+0200
TZNAME:CEST
DTSTART:20230326T010000
END:DAYLIGHT
BEGIN:STANDARD
TZOFFSETFROM:+0200
TZOFFSETTO:+0100
TZNAME:CET
DTSTART:20231029T010000
END:STANDARD
BEGIN:DAYLIGHT
TZOFFSETFROM:+0100
TZOFFSETTO:+0200
TZNAME:CEST
DTSTART:20240331T010000
END:DAYLIGHT
BEGIN:STANDARD
TZOFFSETFROM:+0200
TZOFFSETTO:+0100
TZNAME:CET
DTSTART:20241027T010000
END:STANDARD
END:VTIMEZONE
BEGIN:VEVENT
DTSTART;TZID=Europe/Berlin:20231212T173000
DTEND;TZID=Europe/Berlin:20231212T173000
DTSTAMP:20260421T134233
CREATED:20231120T160609Z
LAST-MODIFIED:20231120T160609Z
UID:9187-1702402200-1702402200@www.wsks-graz.at
SUMMARY:Konzert im Advent
DESCRIPTION:
URL:https://www.wsks-graz.at/aktuelles/konzert-im-advent/
LOCATION:im Festsaal
ATTACH;FMTTYPE=image/jpeg:https://www.wsks-graz.at/wp-content/uploads/2023/11/IMG_9516.jpeg
END:VEVENT
END:VCALENDAR