BEGIN:VCALENDAR
VERSION:2.0
PRODID:-//Waldorfschule Karl Schubert · Graz - ECPv6.15.20//NONSGML v1.0//EN
CALSCALE:GREGORIAN
METHOD:PUBLISH
X-ORIGINAL-URL:https://www.wsks-graz.at
X-WR-CALDESC:Veranstaltungen für Waldorfschule Karl Schubert · Graz
REFRESH-INTERVAL;VALUE=DURATION:PT1H
X-Robots-Tag:noindex
X-PUBLISHED-TTL:PT1H
BEGIN:VTIMEZONE
TZID:Europe/Berlin
BEGIN:DAYLIGHT
TZOFFSETFROM:+0100
TZOFFSETTO:+0200
TZNAME:CEST
DTSTART:20220327T010000
END:DAYLIGHT
BEGIN:STANDARD
TZOFFSETFROM:+0200
TZOFFSETTO:+0100
TZNAME:CET
DTSTART:20221030T010000
END:STANDARD
BEGIN:DAYLIGHT
TZOFFSETFROM:+0100
TZOFFSETTO:+0200
TZNAME:CEST
DTSTART:20230326T010000
END:DAYLIGHT
BEGIN:STANDARD
TZOFFSETFROM:+0200
TZOFFSETTO:+0100
TZNAME:CET
DTSTART:20231029T010000
END:STANDARD
BEGIN:DAYLIGHT
TZOFFSETFROM:+0100
TZOFFSETTO:+0200
TZNAME:CEST
DTSTART:20240331T010000
END:DAYLIGHT
BEGIN:STANDARD
TZOFFSETFROM:+0200
TZOFFSETTO:+0100
TZNAME:CET
DTSTART:20241027T010000
END:STANDARD
END:VTIMEZONE
BEGIN:VEVENT
DTSTART;TZID=Europe/Berlin:20231021T090000
DTEND;TZID=Europe/Berlin:20231021T170000
DTSTAMP:20260421T145652
CREATED:20231014T175536Z
LAST-MODIFIED:20231014T175536Z
UID:9036-1697878800-1697907600@www.wsks-graz.at
SUMMARY:Schulinfomesse - Stadthalle Graz
DESCRIPTION:
URL:https://www.wsks-graz.at/aktuelles/schulinfomesse-stadthalle-graz-2/
END:VEVENT
BEGIN:VEVENT
DTSTART;TZID=Europe/Berlin:20231021T153000
DTEND;TZID=Europe/Berlin:20231021T153000
DTSTAMP:20260421T145652
CREATED:20231010T055121Z
LAST-MODIFIED:20231010T055121Z
UID:9022-1697902200-1697902200@www.wsks-graz.at
SUMMARY:Die Kinder des Mosieur Mathieu - Klassenspiel der 6. Klasse und Chor der 6. und 7. Klasse
DESCRIPTION:
URL:https://www.wsks-graz.at/aktuelles/die-kinder-des-mosieur-mathieu-klassenspiel-der-6-klasse-und-chor-der-6-und-7-klasse/
ATTACH;FMTTYPE=image/png:https://www.wsks-graz.at/wp-content/uploads/2023/10/Bildschirmfoto-2023-10-10-um-07.45.04-e1697648323877.png
END:VEVENT
END:VCALENDAR