BEGIN:VCALENDAR
VERSION:2.0
PRODID:-//Waldorfschule Karl Schubert · Graz - ECPv6.15.20//NONSGML v1.0//EN
CALSCALE:GREGORIAN
METHOD:PUBLISH
X-ORIGINAL-URL:https://www.wsks-graz.at
X-WR-CALDESC:Veranstaltungen für Waldorfschule Karl Schubert · Graz
REFRESH-INTERVAL;VALUE=DURATION:PT1H
X-Robots-Tag:noindex
X-PUBLISHED-TTL:PT1H
BEGIN:VTIMEZONE
TZID:Europe/Berlin
BEGIN:DAYLIGHT
TZOFFSETFROM:+0100
TZOFFSETTO:+0200
TZNAME:CEST
DTSTART:20220327T010000
END:DAYLIGHT
BEGIN:STANDARD
TZOFFSETFROM:+0200
TZOFFSETTO:+0100
TZNAME:CET
DTSTART:20221030T010000
END:STANDARD
BEGIN:DAYLIGHT
TZOFFSETFROM:+0100
TZOFFSETTO:+0200
TZNAME:CEST
DTSTART:20230326T010000
END:DAYLIGHT
BEGIN:STANDARD
TZOFFSETFROM:+0200
TZOFFSETTO:+0100
TZNAME:CET
DTSTART:20231029T010000
END:STANDARD
BEGIN:DAYLIGHT
TZOFFSETFROM:+0100
TZOFFSETTO:+0200
TZNAME:CEST
DTSTART:20240331T010000
END:DAYLIGHT
BEGIN:STANDARD
TZOFFSETFROM:+0200
TZOFFSETTO:+0100
TZNAME:CET
DTSTART:20241027T010000
END:STANDARD
END:VTIMEZONE
BEGIN:VEVENT
DTSTART;TZID=Europe/Berlin:20230913T190000
DTEND;TZID=Europe/Berlin:20230913T190000
DTSTAMP:20260421T161242
CREATED:20230906T103051Z
LAST-MODIFIED:20230906T103051Z
UID:8899-1694631600-1694631600@www.wsks-graz.at
SUMMARY:Elternabend 5. Klasse
DESCRIPTION:
URL:https://www.wsks-graz.at/aktuelles/elternabend-5-klasse/
END:VEVENT
BEGIN:VEVENT
DTSTART;TZID=Europe/Berlin:20230913T190000
DTEND;TZID=Europe/Berlin:20230913T190000
DTSTAMP:20260421T161242
CREATED:20230906T103254Z
LAST-MODIFIED:20230906T103254Z
UID:8907-1694631600-1694631600@www.wsks-graz.at
SUMMARY:Elternabend 9. Klasse
DESCRIPTION:
URL:https://www.wsks-graz.at/aktuelles/elternabend-9-klasse/
END:VEVENT
END:VCALENDAR