BEGIN:VCALENDAR
VERSION:2.0
PRODID:-//Waldorfschule Karl Schubert · Graz - ECPv6.15.20//NONSGML v1.0//EN
CALSCALE:GREGORIAN
METHOD:PUBLISH
X-ORIGINAL-URL:https://www.wsks-graz.at
X-WR-CALDESC:Veranstaltungen für Waldorfschule Karl Schubert · Graz
REFRESH-INTERVAL;VALUE=DURATION:PT1H
X-Robots-Tag:noindex
X-PUBLISHED-TTL:PT1H
BEGIN:VTIMEZONE
TZID:Europe/Berlin
BEGIN:DAYLIGHT
TZOFFSETFROM:+0100
TZOFFSETTO:+0200
TZNAME:CEST
DTSTART:20220327T010000
END:DAYLIGHT
BEGIN:STANDARD
TZOFFSETFROM:+0200
TZOFFSETTO:+0100
TZNAME:CET
DTSTART:20221030T010000
END:STANDARD
BEGIN:DAYLIGHT
TZOFFSETFROM:+0100
TZOFFSETTO:+0200
TZNAME:CEST
DTSTART:20230326T010000
END:DAYLIGHT
BEGIN:STANDARD
TZOFFSETFROM:+0200
TZOFFSETTO:+0100
TZNAME:CET
DTSTART:20231029T010000
END:STANDARD
BEGIN:DAYLIGHT
TZOFFSETFROM:+0100
TZOFFSETTO:+0200
TZNAME:CEST
DTSTART:20240331T010000
END:DAYLIGHT
BEGIN:STANDARD
TZOFFSETFROM:+0200
TZOFFSETTO:+0100
TZNAME:CET
DTSTART:20241027T010000
END:STANDARD
END:VTIMEZONE
BEGIN:VEVENT
DTSTART;TZID=Europe/Berlin:20230702T190000
DTEND;TZID=Europe/Berlin:20230702T190000
DTSTAMP:20260421T225925
CREATED:20230522T095236Z
LAST-MODIFIED:20230606T105827Z
UID:8707-1688324400-1688324400@www.wsks-graz.at
SUMMARY:Open STudio Orchestra: Open Air Konzert am Marktplatz Kumberg
DESCRIPTION:Achtung: Bei Schlechtwetter findet das Konzert in der Kirche statt.
URL:https://www.wsks-graz.at/aktuelles/open-studio-orchestra-open-air-konzert-am-marktplatz-kumberg/
ATTACH;FMTTYPE=image/jpeg:https://www.wsks-graz.at/wp-content/uploads/2023/06/IMG_4404.jpg
END:VEVENT
END:VCALENDAR