BEGIN:VCALENDAR
VERSION:2.0
PRODID:-//Waldorfschule Karl Schubert · Graz - ECPv6.15.20//NONSGML v1.0//EN
CALSCALE:GREGORIAN
METHOD:PUBLISH
X-ORIGINAL-URL:https://www.wsks-graz.at
X-WR-CALDESC:Veranstaltungen für Waldorfschule Karl Schubert · Graz
REFRESH-INTERVAL;VALUE=DURATION:PT1H
X-Robots-Tag:noindex
X-PUBLISHED-TTL:PT1H
BEGIN:VTIMEZONE
TZID:Europe/Berlin
BEGIN:DAYLIGHT
TZOFFSETFROM:+0100
TZOFFSETTO:+0200
TZNAME:CEST
DTSTART:20220327T010000
END:DAYLIGHT
BEGIN:STANDARD
TZOFFSETFROM:+0200
TZOFFSETTO:+0100
TZNAME:CET
DTSTART:20221030T010000
END:STANDARD
BEGIN:DAYLIGHT
TZOFFSETFROM:+0100
TZOFFSETTO:+0200
TZNAME:CEST
DTSTART:20230326T010000
END:DAYLIGHT
BEGIN:STANDARD
TZOFFSETFROM:+0200
TZOFFSETTO:+0100
TZNAME:CET
DTSTART:20231029T010000
END:STANDARD
BEGIN:DAYLIGHT
TZOFFSETFROM:+0100
TZOFFSETTO:+0200
TZNAME:CEST
DTSTART:20240331T010000
END:DAYLIGHT
BEGIN:STANDARD
TZOFFSETFROM:+0200
TZOFFSETTO:+0100
TZNAME:CET
DTSTART:20241027T010000
END:STANDARD
END:VTIMEZONE
BEGIN:VEVENT
DTSTART;TZID=Europe/Berlin:20230525T170000
DTEND;TZID=Europe/Berlin:20230525T193000
DTSTAMP:20260422T012738
CREATED:20230517T103305Z
LAST-MODIFIED:20230524T103602Z
UID:8696-1685034000-1685043000@www.wsks-graz.at
SUMMARY:Präsentation der Jahresabschlussarbeiten der 12. Klasse
DESCRIPTION:Unsere 12. Klasse präsentiert ihre Jahresabschlussarbeiten! Die Präsentation findet am 25. Mai von 17 bis 19:30 Uhr im Festsaal der der Waldorfschule Karl-Schubert statt. Begleitet wird das Programm von Eurythmieaufführungen der SchülerInnen.\n\n\n\nDONNERSTAG 25. Mai 17 – 19:30 \n\n\n\n\n\n\nSchülerIn\nThema\n\n\n\nPhilipp \n\n\nWas sind Exoplaneten? – Alles über Exoplaneten \n\n\n\n\nMarie \n\n\nMaler/Innen mit psychischen Krankheiten: Kann man die Krankheit in der Kunst erkennen? \n\n\n\n\nNikolai \n\n\nDie Schuldfrage des Ersten Weltkriegs \n\n\n\n\nJakob \n\n\nEmpathie – Wie sie entsteht und warum manche Menschen weniger davon haben \n\n\n\n\nNoah \n\n\nFolgen einer Flucht bei Kindern und Jugendlichen
URL:https://www.wsks-graz.at/aktuelles/praesentation-der-jahresabschlussarbeiten-der-12-klasse/
END:VEVENT
END:VCALENDAR