BEGIN:VCALENDAR
VERSION:2.0
PRODID:-//Waldorfschule Karl Schubert · Graz - ECPv6.15.20//NONSGML v1.0//EN
CALSCALE:GREGORIAN
METHOD:PUBLISH
X-WR-CALNAME:Waldorfschule Karl Schubert · Graz
X-ORIGINAL-URL:https://www.wsks-graz.at
X-WR-CALDESC:Veranstaltungen für Waldorfschule Karl Schubert · Graz
REFRESH-INTERVAL;VALUE=DURATION:PT1H
X-Robots-Tag:noindex
X-PUBLISHED-TTL:PT1H
BEGIN:VTIMEZONE
TZID:Europe/Berlin
BEGIN:DAYLIGHT
TZOFFSETFROM:+0100
TZOFFSETTO:+0200
TZNAME:CEST
DTSTART:20210328T010000
END:DAYLIGHT
BEGIN:STANDARD
TZOFFSETFROM:+0200
TZOFFSETTO:+0100
TZNAME:CET
DTSTART:20211031T010000
END:STANDARD
BEGIN:DAYLIGHT
TZOFFSETFROM:+0100
TZOFFSETTO:+0200
TZNAME:CEST
DTSTART:20220327T010000
END:DAYLIGHT
BEGIN:STANDARD
TZOFFSETFROM:+0200
TZOFFSETTO:+0100
TZNAME:CET
DTSTART:20221030T010000
END:STANDARD
BEGIN:DAYLIGHT
TZOFFSETFROM:+0100
TZOFFSETTO:+0200
TZNAME:CEST
DTSTART:20230326T010000
END:DAYLIGHT
BEGIN:STANDARD
TZOFFSETFROM:+0200
TZOFFSETTO:+0100
TZNAME:CET
DTSTART:20231029T010000
END:STANDARD
END:VTIMEZONE
BEGIN:VEVENT
DTSTART;TZID=Europe/Berlin:20220625T103000
DTEND;TZID=Europe/Berlin:20220625T120000
DTSTAMP:20260422T164935
CREATED:20210914T085334Z
LAST-MODIFIED:20210914T085334Z
UID:7012-1656153000-1656158400@www.wsks-graz.at
SUMMARY:Schulfeier
DESCRIPTION:
URL:https://www.wsks-graz.at/aktuelles/schulfeier/
END:VEVENT
BEGIN:VEVENT
DTSTART;TZID=Europe/Berlin:20220625T120000
DTEND;TZID=Europe/Berlin:20220625T170000
DTSTAMP:20260422T164935
CREATED:20220603T122124Z
LAST-MODIFIED:20220603T122124Z
UID:7654-1656158400-1656176400@www.wsks-graz.at
SUMMARY:Sommerfest
DESCRIPTION:
URL:https://www.wsks-graz.at/aktuelles/sommerfest/
END:VEVENT
BEGIN:VEVENT
DTSTART;TZID=Europe/Berlin:20220625T193000
DTEND;TZID=Europe/Berlin:20220625T230000
DTSTAMP:20260422T164935
CREATED:20220614T101651Z
LAST-MODIFIED:20220614T101704Z
UID:7705-1656185400-1656198000@www.wsks-graz.at
SUMMARY:TANZFEST der 9. Klasse
DESCRIPTION:
URL:https://www.wsks-graz.at/aktuelles/tanzfest-der-9-klasse/
ATTACH;FMTTYPE=image/jpeg:https://www.wsks-graz.at/wp-content/uploads/2022/06/Tanzfest-Plakat-scaled.jpg
END:VEVENT
END:VCALENDAR